
BEGIN:VCALENDAR
VERSION:2.0
PRODID:-//European Poker Tour//EPT Prague 2025//NL Hold'em - 6 Handed//EN
BEGIN:VEVENT
UID:01000000-a9fe-0a58-5720-08de2ffbcf71
DTSTAMP;TZID=Europe/Prague:20251214T123000
DTSTART;TZID=Europe/Prague:20251214T123000
DTEND;TZID=Europe/Prague:20251214T235959
SUMMARY:NL Hold'em - 6 Handed
DESCRIPTION:Game: Texas Hold'em (NL)\nBuy-In: 1,900 + 200 EUR\nStack: 30,000\nLevels: 30 min\nLate Reg: @ 15:20
LOCATION:King’s Casino Prague, Prague, Czech Republic
END:VEVENT
END:VCALENDAR
