
BEGIN:VCALENDAR
VERSION:2.0
PRODID:-//European Poker Tour//EPT Prague 2025//Hyper Turbo Freezeout//EN
BEGIN:VEVENT
UID:01000000-a9fe-0a58-571e-08de2ffbce30
DTSTAMP;TZID=Europe/Prague:20251213T200000
DTSTART;TZID=Europe/Prague:20251213T200000
DTEND;TZID=Europe/Prague:20251213T235959
SUMMARY:Hyper Turbo Freezeout
DESCRIPTION:Game: Texas Hold'em (NL)\nBuy-In: 1,000 + 50 EUR\nStack: 20,000\nLevels: 15 min\nLate Reg: @ 21:20
LOCATION:King’s Casino Prague, Prague, Czech Republic
END:VEVENT
END:VCALENDAR
