
BEGIN:VCALENDAR
VERSION:2.0
PRODID:-//European Poker Tour//EPT Prague 2025//€2,200 Deep Stack//EN
BEGIN:VEVENT
UID:01000000-a9fe-0a58-7923-08de2ffbce9b
DTSTAMP;TZID=Europe/Prague:20251213T130000
DTSTART;TZID=Europe/Prague:20251213T130000
DTEND;TZID=Europe/Prague:20251214T235959
SUMMARY:€2,200 Deep Stack
DESCRIPTION:Game: Texas Hold'em (NL)\nBuy-In: 2,000 + 200 EUR\nStack: 30,000
LOCATION:King’s Casino Prague, Prague, Czech Republic
END:VEVENT
END:VCALENDAR
