
BEGIN:VCALENDAR
VERSION:2.0
PRODID:-//European Poker Tour//EPT Prague 2025//8 Game - Single Re-Entry//EN
BEGIN:VEVENT
UID:01000000-a9fe-0a58-f132-08de2ffbcd90
DTSTAMP;TZID=Europe/Prague:20251213T130000
DTSTART;TZID=Europe/Prague:20251213T130000
DTEND;TZID=Europe/Prague:20251213T235959
SUMMARY:8 Game - Single Re-Entry
DESCRIPTION:Game: 8-Game Mix (null)\nBuy-In: 500 + 50 EUR\nStack: 30,000\nLevels: 30 min\nLate Reg: @ 18:20
LOCATION:King’s Casino Prague, Prague, Czech Republic
END:VEVENT
END:VCALENDAR
