
BEGIN:VCALENDAR
VERSION:2.0
PRODID:-//European Poker Tour//EPT Prague 2025//€330 NL Hold'em//EN
BEGIN:VEVENT
UID:01000000-a9fe-0a58-410b-08de2ffbced1
DTSTAMP;TZID=Europe/Prague:20251213T130000
DTSTART;TZID=Europe/Prague:20251213T130000
DTEND;TZID=Europe/Prague:20251214T235959
SUMMARY:€330 NL Hold'em
DESCRIPTION:Game: Texas Hold'em (NL)\nBuy-In: 300 + 30 EUR\nStack: 30,000
LOCATION:King’s Casino Prague, Prague, Czech Republic
END:VEVENT
END:VCALENDAR
