
BEGIN:VCALENDAR
VERSION:2.0
PRODID:-//European Poker Tour//EPT Prague 2025//Hyper Turbo Knockout (€100) - Freezeout//EN
BEGIN:VEVENT
UID:01000000-a9fe-0a58-edae-08de2ffbcbe6
DTSTAMP;TZID=Europe/Prague:20251212T210000
DTSTART;TZID=Europe/Prague:20251212T210000
DTEND;TZID=Europe/Prague:20251212T235959
SUMMARY:Hyper Turbo Knockout (€100) - Freezeout
DESCRIPTION:Game: Texas Hold'em (NL)\nBuy-In: 1,080 + 120 EUR\nStack: 20,000\nLevels: 15 min\nLate Reg: @ 22:20
LOCATION:King’s Casino Prague, Prague, Czech Republic
END:VEVENT
END:VCALENDAR
