
BEGIN:VCALENDAR
VERSION:2.0
PRODID:-//European Poker Tour//EPT Prague 2025//Mystery Bounty (€500 Mystery Bounty)//EN
BEGIN:VEVENT
UID:01000000-a9fe-0a58-fc93-08de2ffbcdc5
DTSTAMP;TZID=Europe/Prague:20251212T130000
DTSTART;TZID=Europe/Prague:20251212T130000
DTEND;TZID=Europe/Prague:20251213T235959
SUMMARY:Mystery Bounty (€500 Mystery Bounty)
DESCRIPTION:Game: Texas Hold'em (NL)\nBuy-In: 1,500 + 150 EUR\nStack: 30,000
LOCATION:King’s Casino Prague, Prague, Czech Republic
END:VEVENT
END:VCALENDAR
