
BEGIN:VCALENDAR
VERSION:2.0
PRODID:-//European Poker Tour//EPT Prague 2025//Hyper Turbo Knockout (€500) - Freezeout//EN
BEGIN:VEVENT
UID:01000000-a9fe-0a58-4b33-08de2ffbc99d
DTSTAMP;TZID=Europe/Prague:20251211T210000
DTSTART;TZID=Europe/Prague:20251211T210000
DTEND;TZID=Europe/Prague:20251211T235959
SUMMARY:Hyper Turbo Knockout (€500) - Freezeout
DESCRIPTION:Game: Texas Hold'em (NL)\nBuy-In: 1,000 + 50 EUR\nStack: 20,000\nLevels: 15 min\nLate Reg: @ 22:20
LOCATION:King’s Casino Prague, Prague, Czech Republic
END:VEVENT
END:VCALENDAR
