
BEGIN:VCALENDAR
VERSION:2.0
PRODID:-//European Poker Tour//EPT Prague 2025//EPT 10 Game//EN
BEGIN:VEVENT
UID:01000000-a9fe-0a58-8d09-08de2ffbccf2
DTSTAMP;TZID=Europe/Prague:20251211T130000
DTSTART;TZID=Europe/Prague:20251211T130000
DTEND;TZID=Europe/Prague:20251213T235959
SUMMARY:EPT 10 Game
DESCRIPTION:Game: 8-Game Mix (null)\nBuy-In: 2,000 + 200 EUR\nStack: 50,000
LOCATION:King’s Casino Prague, Prague, Czech Republic
END:VEVENT
END:VCALENDAR
