
BEGIN:VCALENDAR
VERSION:2.0
PRODID:-//European Poker Tour//EPT Prague 2025//8 Game//EN
BEGIN:VEVENT
UID:01000000-a9fe-0a58-6249-08de2ffbc85e
DTSTAMP;TZID=Europe/Prague:20251211T130000
DTSTART;TZID=Europe/Prague:20251211T130000
DTEND;TZID=Europe/Prague:20251211T235959
SUMMARY:8 Game
DESCRIPTION:Game: 8-Game Mix (null)\nBuy-In: 4,850 + 350 EUR\nStack: 50,000\nLevels: 40 min\nLate Reg: @ 18:30
LOCATION:King’s Casino Prague, Prague, Czech Republic
END:VEVENT
END:VCALENDAR
