
BEGIN:VCALENDAR
VERSION:2.0
PRODID:-//European Poker Tour//EPT Prague 2025//Hyper Turbo Knockout (€500) - Freezeout//EN
BEGIN:VEVENT
UID:01000000-a9fe-0a58-9bcb-08de2ffbc754
DTSTAMP;TZID=Europe/Prague:20251210T200000
DTSTART;TZID=Europe/Prague:20251210T200000
DTEND;TZID=Europe/Prague:20251210T235959
SUMMARY:Hyper Turbo Knockout (€500) - Freezeout
DESCRIPTION:Game: Texas Hold'em (NL)\nBuy-In: 1,000 + 50 EUR\nStack: 20,000\nLevels: 15 min\nLate Reg: @ 21:20
LOCATION:King’s Casino Prague, Prague, Czech Republic
END:VEVENT
END:VCALENDAR
