
BEGIN:VCALENDAR
VERSION:2.0
PRODID:-//European Poker Tour//EPT Prague 2025//Hyper Turbo - Freezeout//EN
BEGIN:VEVENT
UID:01000000-a9fe-0a58-a560-08de2ffbc5ac
DTSTAMP;TZID=Europe/Prague:20251209T210000
DTSTART;TZID=Europe/Prague:20251209T210000
DTEND;TZID=Europe/Prague:20251209T235959
SUMMARY:Hyper Turbo - Freezeout
DESCRIPTION:Game: Texas Hold'em (NL)\nBuy-In: 500 + 50 EUR\nStack: 20,000\nLevels: 15 min\nLate Reg: @ 22:20
LOCATION:King’s Casino Prague, Prague, Czech Republic
END:VEVENT
END:VCALENDAR
