
BEGIN:VCALENDAR
VERSION:2.0
PRODID:-//European Poker Tour//EPT Prague 2025//NL Hold'em//EN
BEGIN:VEVENT
UID:01000000-a9fe-0a58-b586-08de2ffbc577
DTSTAMP;TZID=Europe/Prague:20251209T190000
DTSTART;TZID=Europe/Prague:20251209T190000
DTEND;TZID=Europe/Prague:20251209T235959
SUMMARY:NL Hold'em
DESCRIPTION:Game: Texas Hold'em (NL)\nBuy-In: 1,900 + 200 EUR\nStack: 30,000\nLevels: 30 min\nLate Reg: @ 21:50
LOCATION:King’s Casino Prague, Prague, Czech Republic
END:VEVENT
END:VCALENDAR
