
BEGIN:VCALENDAR
VERSION:2.0
PRODID:-//European Poker Tour//EPT Prague 2025//€25,000 NL Hold'em//EN
BEGIN:VEVENT
UID:01000000-a9fe-0a58-a959-08de2ffbc438
DTSTAMP;TZID=Europe/Prague:20251209T123000
DTSTART;TZID=Europe/Prague:20251209T123000
DTEND;TZID=Europe/Prague:20251209T235959
SUMMARY:€25,000 NL Hold'em
DESCRIPTION:Game: Texas Hold'em (NL)\nBuy-In: 24,100 + 900 EUR\nStack: 100,000\nLevels: 30 min\nLate Reg: @ 18:05
LOCATION:King’s Casino Prague, Prague, Czech Republic
END:VEVENT
END:VCALENDAR
