
BEGIN:VCALENDAR
VERSION:2.0
PRODID:-//European Poker Tour//EPT Prague 2025//NL Hold'em - Freezeout//EN
BEGIN:VEVENT
UID:01000000-a9fe-0a58-c59b-08de2ffbb8a1
DTSTAMP;TZID=Europe/Prague:20251203T130000
DTSTART;TZID=Europe/Prague:20251203T130000
DTEND;TZID=Europe/Prague:20251204T235959
SUMMARY:NL Hold'em - Freezeout
DESCRIPTION:Game: Texas Hold'em (NL)\nBuy-In: 960 + 140 EUR\nStack: 30,000
LOCATION:King’s Casino Prague, Prague, Czech Republic
END:VEVENT
END:VCALENDAR
