
BEGIN:VCALENDAR
VERSION:2.0
PRODID:-//European Poker Tour//EPT Prague 2025//PL Omaha//EN
BEGIN:VEVENT
UID:01000000-a9fe-0a58-23d3-08de2ffbc64b
DTSTAMP;TZID=Europe/Prague:20251209T130000
DTSTART;TZID=Europe/Prague:20251209T130000
DTEND;TZID=Europe/Prague:20251210T235959
SUMMARY:PL Omaha
DESCRIPTION:Game: Omaha (PL)\nBuy-In: 960 + 140 EUR\nStack: 50,000
LOCATION:King’s Casino Prague, Prague, Czech Republic
END:VEVENT
END:VCALENDAR
