
BEGIN:VCALENDAR
VERSION:2.0
PRODID:-//European Poker Tour//EPT Prague 2025//Mixed Game - Big Bet//EN
BEGIN:VEVENT
UID:01000000-a9fe-0a58-7b93-08de2ffbc3ff
DTSTAMP;TZID=Europe/Prague:20251208T130000
DTSTART;TZID=Europe/Prague:20251208T130000
DTEND;TZID=Europe/Prague:20251209T235959
SUMMARY:Mixed Game - Big Bet
DESCRIPTION:Game: 8-Game Mix (null)\nBuy-In: 960 + 140 EUR\nStack: 50,000
LOCATION:King’s Casino Prague, Prague, Czech Republic
END:VEVENT
END:VCALENDAR
