
BEGIN:VCALENDAR
VERSION:2.0
PRODID:-//European Poker Tour//EPT Prague 2025//Womens//EN
BEGIN:VEVENT
UID:01000000-a9fe-0a58-e8eb-08de2ffbbf0d
DTSTAMP;TZID=Europe/Prague:20251207T120000
DTSTART;TZID=Europe/Prague:20251207T120000
DTEND;TZID=Europe/Prague:20251207T235959
SUMMARY:Womens
DESCRIPTION:Game: Texas Hold'em (NL)\nBuy-In: 300 + 30 EUR\nStack: 30,000\nLevels: 30 min\nLate Reg: @ 18:45
LOCATION:King’s Casino Prague, Prague, Czech Republic
END:VEVENT
END:VCALENDAR
