
BEGIN:VCALENDAR
VERSION:2.0
PRODID:-//European Poker Tour//EPT Prague 2025//€5,200 PL Omaha//EN
BEGIN:VEVENT
UID:01000000-a9fe-0a58-e9c1-08de2ffbbd9b
DTSTAMP;TZID=Europe/Prague:20251206T123000
DTSTART;TZID=Europe/Prague:20251206T123000
DTEND;TZID=Europe/Prague:20251206T235959
SUMMARY:€5,200 PL Omaha
DESCRIPTION:Game: Omaha (PL)\nBuy-In: 4,850 + 350 EUR\nStack: 50,000\nLevels: 30 min\nLate Reg: @ 19:15
LOCATION:King’s Casino Prague, Prague, Czech Republic
END:VEVENT
END:VCALENDAR
