
BEGIN:VCALENDAR
VERSION:2.0
PRODID:-//European Poker Tour//EPT Prague 2025//€20,000 NL Hold'em//EN
BEGIN:VEVENT
UID:01000000-a9fe-0a58-63a9-08de2ffbbb6c
DTSTAMP;TZID=Europe/Prague:20251205T123000
DTSTART;TZID=Europe/Prague:20251205T123000
DTEND;TZID=Europe/Prague:20251205T235959
SUMMARY:€20,000 NL Hold'em
DESCRIPTION:Game: Texas Hold'em (NL)\nBuy-In: 19,600 + 400 EUR\nStack: 100,000\nLevels: 30 min\nLate Reg: @ 18:05
LOCATION:King’s Casino Prague, Prague, Czech Republic
END:VEVENT
END:VCALENDAR
