
BEGIN:VCALENDAR
VERSION:2.0
PRODID:-//European Poker Tour//EPT Prague 2025//8 Game//EN
BEGIN:VEVENT
UID:01000000-a9fe-0a58-d527-08de2ffbbaef
DTSTAMP;TZID=Europe/Prague:20251204T130000
DTSTART;TZID=Europe/Prague:20251204T130000
DTEND;TZID=Europe/Prague:20251205T235959
SUMMARY:8 Game
DESCRIPTION:Game: 8-Game Mix (null)\nBuy-In: 960 + 140 EUR\nStack: 50,000
LOCATION:King’s Casino Prague, Prague, Czech Republic
END:VEVENT
END:VCALENDAR
