
BEGIN:VCALENDAR
VERSION:2.0
PRODID:-//WSOP Paradise//WSOP Paradise 2025//EN
BEGIN:VEVENT
UID:01000000-a9fe-0a58-034b-08ddbf0a2a36
DTSTAMP:20251204T000000Z
DTSTART:20251204T000000Z
DTEND:20251218T000000Z
SUMMARY:WSOP Paradise 2025
DESCRIPTION:WSOP Paradise > 2025 > WSOP Paradise 2025
LOCATION:Atlantis Bahamis Resort & Casino, Paradise Island, Bahamas
END:VEVENT
END:VCALENDAR
