
BEGIN:VCALENDAR
VERSION:2.0
PRODID:-//World Series of Poker//WSOP Online 2021//EN
BEGIN:VEVENT
UID:01000000-a9fe-0a58-bfad-08dca95d917c
DTSTAMP:20210701T000000Z
DTSTART:20210701T000000Z
DTEND:20210912T000000Z
SUMMARY:WSOP Online 2021
DESCRIPTION:World Series of Poker > 2021 > WSOP Online 2021
LOCATION:undefined, undefined, undefined
END:VEVENT
END:VCALENDAR
