
BEGIN:VCALENDAR
VERSION:2.0
PRODID:-//World Poker Tour//WPT World Championship 2024//EN
BEGIN:VEVENT
UID:01000000-a9fe-0a58-0c04-08dce4acd2ca
DTSTAMP:20241214T000000Z
DTSTART:20241214T000000Z
DTEND:20241221T000000Z
SUMMARY:WPT World Championship 2024
DESCRIPTION:World Poker Tour > 2024 > WPT World Championship 2024
LOCATION:Wynn Las Vegas, Las Vegas, Las Vegas
END:VEVENT
END:VCALENDAR
