
BEGIN:VCALENDAR
VERSION:2.0
PRODID:-//World Poker Tour//WPT Online India 2020//EN
BEGIN:VEVENT
UID:01000000-a9fe-0a58-c10b-08dca95d917c
DTSTAMP:20201105T000000Z
DTSTART:20201105T000000Z
DTEND:20201122T000000Z
SUMMARY:WPT Online India 2020
DESCRIPTION:World Poker Tour > 2020 > WPT Online India 2020
LOCATION:undefined, undefined, undefined
END:VEVENT
END:VCALENDAR
