
BEGIN:VCALENDAR
VERSION:2.0
PRODID:-//World Poker Tour//WPT DeepStacks Taiwan 2020 December//EN
BEGIN:VEVENT
UID:01000000-a9fe-0a58-fe71-08dca95d918c
DTSTAMP:20201211T000000Z
DTSTART:20201211T000000Z
DTEND:20201221T000000Z
SUMMARY:WPT DeepStacks Taiwan 2020 December
DESCRIPTION:World Poker Tour > 2020 > WPT DeepStacks Taiwan 2020 December
LOCATION:Chinese Texas Hold’em Poker Association, Taipei City, Taiwan
END:VEVENT
END:VCALENDAR
