
BEGIN:VCALENDAR
VERSION:2.0
PRODID:-//World Poker Tour//WPT Australia 2020 (POSTPONED)//EN
BEGIN:VEVENT
UID:01000000-a9fe-0a58-fedf-08dca95d918c
DTSTAMP:20201001T000000Z
DTSTART:20201001T000000Z
DTEND:20201005T000000Z
SUMMARY:WPT Australia 2020 (POSTPONED)
DESCRIPTION:World Poker Tour > 2020 > WPT Australia 2020 (POSTPONED)
LOCATION:The Star Sydney, Sydney, Australia
END:VEVENT
END:VCALENDAR
