
BEGIN:VCALENDAR
VERSION:2.0
PRODID:-//World Series of Poker//World Series of Poker (WSOP) 2020 [POSTPONED]//EN
BEGIN:VEVENT
UID:01000000-a9fe-0a58-010b-08dca95d918d
DTSTAMP:20200527T000000Z
DTSTART:20200527T000000Z
DTEND:20200713T000000Z
SUMMARY:World Series of Poker (WSOP) 2020 [POSTPONED]
DESCRIPTION:World Series of Poker > 2020 > World Series of Poker (WSOP) 2020 [POSTPONED]
LOCATION:Rio All-Suite Hotel & Casino, Las Vegas, Las Vegas
END:VEVENT
END:VCALENDAR
