
BEGIN:VCALENDAR
VERSION:2.0
PRODID:-//World Poker Games//World Poker Games Taiwan 2026//EN
BEGIN:VEVENT
UID:01000000-4909-3915-412e-08de9b922314
DTSTAMP:20260523T000000Z
DTSTART:20260523T000000Z
DTEND:20260531T000000Z
SUMMARY:World Poker Games Taiwan 2026
DESCRIPTION:World Poker Games > 2026 > World Poker Games Taiwan 2026
LOCATION:CTP Asia Poker Arena, Taipei City, Taiwan
END:VEVENT
END:VCALENDAR
