
BEGIN:VCALENDAR
VERSION:2.0
PRODID:-//Asian Poker Tours & Circuits//World Cup of Cards Online//EN
BEGIN:VEVENT
UID:01000000-a9fe-0a58-c089-08dca95d917c
DTSTAMP:20210611T000000Z
DTSTART:20210611T000000Z
DTEND:20210620T000000Z
SUMMARY:World Cup of Cards Online
DESCRIPTION:Asian Poker Tours & Circuits > 2021 > World Cup of Cards Online
LOCATION:undefined, undefined, undefined
END:VEVENT
END:VCALENDAR
