
BEGIN:VCALENDAR
VERSION:2.0
PRODID:-//U Series Of Poker//USOP 2021 – World of Champions 2//EN
BEGIN:VEVENT
UID:01000000-a9fe-0a58-bfed-08dca95d917c
DTSTAMP:20210801T000000Z
DTSTART:20210801T000000Z
DTEND:20210919T000000Z
SUMMARY:USOP 2021 – World of Champions 2
DESCRIPTION:U Series Of Poker > 2021 > USOP 2021 – World of Champions 2
LOCATION:undefined, undefined, undefined
END:VEVENT
END:VCALENDAR
