
BEGIN:VCALENDAR
VERSION:2.0
PRODID:-//Triton Poker Series//Triton Super High Roller Series Montenegro S5 2026//EN
BEGIN:VEVENT
UID:01000000-a9fe-0a58-5c8d-08de520ec329
DTSTAMP:20260513T000000Z
DTSTART:20260513T000000Z
DTEND:20250528T000000Z
SUMMARY:Triton Super High Roller Series Montenegro S5 2026
DESCRIPTION:Triton Poker Series > 2026 > Triton Super High Roller Series Montenegro S5 2026
LOCATION:* To be announced *, , undefined
END:VEVENT
END:VCALENDAR
