
BEGIN:VCALENDAR
VERSION:2.0
PRODID:-//Triton Poker Series//Triton Super High Roller Series Montenegro 2025//EN
BEGIN:VEVENT
UID:01000000-a9fe-0a58-9b59-08dd2e46d397
DTSTAMP:20250513T000000Z
DTSTART:20250513T000000Z
DTEND:20250527T000000Z
SUMMARY:Triton Super High Roller Series Montenegro 2025
DESCRIPTION:Triton Poker Series > 2025 > Triton Super High Roller Series Montenegro 2025
LOCATION:Maestral Resort & Casino Montenegro, Sveti Stefan, Montenegro
END:VEVENT
END:VCALENDAR
