
BEGIN:VCALENDAR
VERSION:2.0
PRODID:-//The Singapore Poker Championships//SPC XX//EN
BEGIN:VEVENT
UID:01000000-a9fe-0a58-82a8-08de50355f8d
DTSTAMP:20260306T000000Z
DTSTART:20260306T000000Z
DTEND:20260308T000000Z
SUMMARY:SPC XX
DESCRIPTION:The Singapore Poker Championships > 2026 > SPC XX
LOCATION:MV Aegean Paradise, Singapore, Singapore
END:VEVENT
END:VCALENDAR
