
BEGIN:VCALENDAR
VERSION:2.0
PRODID:-//Singapore Poker League//Singapore Poker League – SPL 2023//EN
BEGIN:VEVENT
UID:01000000-a9fe-0a58-bae8-08dca95d919f
DTSTAMP:20230330T000000Z
DTSTART:20230330T000000Z
DTEND:20230403T000000Z
SUMMARY:Singapore Poker League – SPL 2023
DESCRIPTION:Singapore Poker League > 2023 > Singapore Poker League – SPL 2023
LOCATION:Chinese Texas Hold’em Poker Association, Taipei City, Taiwan
END:VEVENT
END:VCALENDAR
