
BEGIN:VCALENDAR
VERSION:2.0
PRODID:-//The Singapore Poker Championships//The Singapore Poker Championships XIII//EN
BEGIN:VEVENT
UID:01000000-a9fe-0a58-1ac5-08dca95d9199
DTSTAMP:20190614T000000Z
DTSTART:20190614T000000Z
DTEND:20190616T000000Z
SUMMARY:The Singapore Poker Championships XIII
DESCRIPTION:The Singapore Poker Championships > 2019 > The Singapore Poker Championships XIII
LOCATION:MV Aegean Paradise, Singapore, Singapore
END:VEVENT
END:VCALENDAR
