
BEGIN:VCALENDAR
VERSION:2.0
PRODID:-//Players Series//PS Championship IV Taipei 2026//EN
BEGIN:VEVENT
UID:01000000-a9fe-0a58-a5e1-08de477f8280
DTSTAMP:20260818T000000Z
DTSTART:20260818T000000Z
DTEND:20260831T000000Z
SUMMARY:PS Championship IV Taipei 2026
DESCRIPTION:Players Series > 2026 > PS Championship IV Taipei 2026
LOCATION:CTP Asia Poker Arena, Taipei City, Taiwan
END:VEVENT
END:VCALENDAR
