
BEGIN:VCALENDAR
VERSION:2.0
PRODID:-//Players Series//PS Championship III Taipei 2026//EN
BEGIN:VEVENT
UID:01000000-a9fe-0a58-616d-08de42015bcc
DTSTAMP:20260226T000000Z
DTSTART:20260226T000000Z
DTEND:20260310T000000Z
SUMMARY:PS Championship III Taipei 2026
DESCRIPTION:Players Series > 2026 > PS Championship III Taipei 2026
LOCATION:CTP Asia Poker Arena, Taipei City, Taiwan
END:VEVENT
END:VCALENDAR
