
BEGIN:VCALENDAR
VERSION:2.0
PRODID:-//Asian Poker Tours & Circuits//PokerStars WCOOP 2020//EN
BEGIN:VEVENT
UID:01000000-a9fe-0a58-ffda-08dca95d918c
DTSTAMP:20200830T000000Z
DTSTART:20200830T000000Z
DTEND:20200921T000000Z
SUMMARY:PokerStars WCOOP 2020
DESCRIPTION:Asian Poker Tours & Circuits > 2020 > PokerStars WCOOP 2020
LOCATION:Horseshoe Las Vegas, Las Vegas, Las Vegas
END:VEVENT
END:VCALENDAR
