
BEGIN:VCALENDAR
VERSION:2.0
PRODID:-//Asian Poker Tours & Circuits//PokerStars LIVE Manila Super Series 12//EN
BEGIN:VEVENT
UID:01000000-a9fe-0a58-e559-08dca95d9192
DTSTAMP:20191119T000000Z
DTSTART:20191119T000000Z
DTEND:20191123T000000Z
SUMMARY:PokerStars LIVE Manila Super Series 12
DESCRIPTION:Asian Poker Tours & Circuits > 2019 > PokerStars LIVE Manila Super Series 12
LOCATION:Okada Manila, Manila, Philippines
END:VEVENT
END:VCALENDAR
