
BEGIN:VCALENDAR
VERSION:2.0
PRODID:-//Poker Dream//Poker Dream Taiwan 2023//EN
BEGIN:VEVENT
UID:01000000-a9fe-0a58-1cf4-08dca95d9199
DTSTAMP:20230616T000000Z
DTSTART:20230616T000000Z
DTEND:20230625T000000Z
SUMMARY:Poker Dream Taiwan 2023
DESCRIPTION:Poker Dream > 2023 > Poker Dream Taiwan 2023
LOCATION:CTP Asia Poker Arena, Taipei City, Taiwan
END:VEVENT
END:VCALENDAR
