
BEGIN:VCALENDAR
VERSION:2.0
PRODID:-//Poker Dream//Poker Dream 19 Malaysia//EN
BEGIN:VEVENT
UID:01000000-a9fe-0a58-e41f-08dd39efa345
DTSTAMP:20251023T000000Z
DTSTART:20251023T000000Z
DTEND:20251103T000000Z
SUMMARY:Poker Dream 19 Malaysia
DESCRIPTION:Poker Dream > 2025 > Poker Dream 19 Malaysia
LOCATION:Resorts World Genting, Malaysia, Pahang, Malaysia
END:VEVENT
END:VCALENDAR
