
BEGIN:VCALENDAR
VERSION:2.0
PRODID:-//Poker Dream//Poker Dream 17 Malaysia//EN
BEGIN:VEVENT
UID:01000000-a9fe-0a58-7ac0-08dd39ef76cd
DTSTAMP:20250410T000000Z
DTSTART:20250410T000000Z
DTEND:20250421T000000Z
SUMMARY:Poker Dream 17 Malaysia
DESCRIPTION:Poker Dream > 2025 > Poker Dream 17 Malaysia
LOCATION:Resorts World Genting, Malaysia, Pahang, Malaysia
END:VEVENT
END:VCALENDAR
