
BEGIN:VCALENDAR
VERSION:2.0
PRODID:-//Asian Poker Tours & Circuits//Paradise Poker Series 3//EN
BEGIN:VEVENT
UID:01000000-a9fe-0a58-1aff-08dca95d9199
DTSTAMP:20190207T000000Z
DTSTART:20190207T000000Z
DTEND:20190211T000000Z
SUMMARY:Paradise Poker Series 3
DESCRIPTION:Asian Poker Tours & Circuits > 2019 > Paradise Poker Series 3
LOCATION:Paradise City Incheon, Incheon, South Korea
END:VEVENT
END:VCALENDAR
