
BEGIN:VCALENDAR
VERSION:2.0
PRODID:-//Asian Poker Tours & Circuits//Paradise City Paradise Poker Series 5//EN
BEGIN:VEVENT
UID:01000000-a9fe-0a58-e6dc-08dca95d9192
DTSTAMP:20191107T000000Z
DTSTART:20191107T000000Z
DTEND:20191111T000000Z
SUMMARY:Paradise City Paradise Poker Series 5
DESCRIPTION:Asian Poker Tours & Circuits > 2019 > Paradise City Paradise Poker Series 5
LOCATION:Paradise City Incheon, Incheon, South Korea
END:VEVENT
END:VCALENDAR
