
BEGIN:VCALENDAR
VERSION:2.0
PRODID:-//OLA Poker Tour//OLA Poker Tour Taipei 2025//EN
BEGIN:VEVENT
UID:01000000-a9fe-0a58-b549-08de2079dba6
DTSTAMP:20251217T000000Z
DTSTART:20251217T000000Z
DTEND:20251222T000000Z
SUMMARY:OLA Poker Tour Taipei 2025
DESCRIPTION:OLA Poker Tour > 2025 > OLA Poker Tour Taipei 2025
LOCATION:CTP Asia Poker Arena, Taipei City, Taiwan
END:VEVENT
END:VCALENDAR
