
BEGIN:VCALENDAR
VERSION:2.0
PRODID:-//Asia Poker Championship//Metro Card Club Asia Poker Championship 2022//EN
BEGIN:VEVENT
UID:01000000-a9fe-0a58-bbfd-08dca95d919f
DTSTAMP:20220606T000000Z
DTSTART:20220606T000000Z
DTEND:20220612T000000Z
SUMMARY:Metro Card Club Asia Poker Championship 2022
DESCRIPTION:Asia Poker Championship > 2022 > Metro Card Club Asia Poker Championship 2022
LOCATION:Metro Card Club, Pasig City, Manila, Philippines
END:VEVENT
END:VCALENDAR
