
BEGIN:VCALENDAR
VERSION:2.0
PRODID:-//PokerStars Live//Manila Super Series 15 (POSTPONED)//EN
BEGIN:VEVENT
UID:01000000-a9fe-0a58-feb6-08dca95d918c
DTSTAMP:20200922T000000Z
DTSTART:20200922T000000Z
DTEND:20200928T000000Z
SUMMARY:Manila Super Series 15 (POSTPONED)
DESCRIPTION:PokerStars Live > 2020 > Manila Super Series 15 (POSTPONED)
LOCATION:Okada Manila, Manila, Philippines
END:VEVENT
END:VCALENDAR
