
BEGIN:VCALENDAR
VERSION:2.0
PRODID:-//PokerStars Live//Manila Megastack 10//EN
BEGIN:VEVENT
UID:01000000-a9fe-0a58-1bf4-08dca95d9199
DTSTAMP:20181207T000000Z
DTSTART:20181207T000000Z
DTEND:20181216T000000Z
SUMMARY:Manila Megastack 10
DESCRIPTION:PokerStars Live > 2018 > Manila Megastack 10
LOCATION:Okada Manila, Manila, Philippines
END:VEVENT
END:VCALENDAR
