
BEGIN:VCALENDAR
VERSION:2.0
PRODID:-//Japan Open Poker Tour//JOPT Season 16: Tokyo//EN
BEGIN:VEVENT
UID:01000000-a9fe-0a58-e75b-08dca95d9192
DTSTAMP:20190426T000000Z
DTSTART:20190426T000000Z
DTEND:20190429T000000Z
SUMMARY:JOPT Season 16: Tokyo
DESCRIPTION:Japan Open Poker Tour > 2019 > JOPT Season 16: Tokyo
LOCATION:Bagus Place Ginza, Tokyo, Japan
END:VEVENT
END:VCALENDAR
